BEGIN:VCALENDAR
VERSION:2.0
PRODID:-//185.194.90.9//NONSGML kigkonsult.se iCalcreator 2.20//
CALSCALE:GREGORIAN
METHOD:PUBLISH
X-WR-TIMEZONE:UTC
BEGIN:VEVENT
UID:event2285@thesourcemag.net
DTSTAMP:20260420T180659Z
CATEGORIES:Music
DESCRIPTION:The London Cello Ensemble - ‘Scenes from Childhood\, Songs of E
 xperience.... and a little Tango!’\nCategory: Music\nLink: https://thesour
 cemag.net/index.php?option=com_jem&view=event&id=2285:the-london-cello-ens
 emble-scenes-from-childhood-songs-of-experience-and-a-little-tango\n
DTSTART:20151206T180000Z
DTEND:20151206T180000Z
LOCATION:20th century Theatre\,291 Westbourne Grove\,W11 2QA London
SUMMARY:The London Cello Ensemble - ‘Scenes from Childhood\, Songs of Exper
 ience.... and a little Tango!’
URL:https://thesourcemag.net/index.php?option=com_jem&view=event&id=2285:th
 e-london-cello-ensemble-scenes-from-childhood-songs-of-experience-and-a-li
 ttle-tango
END:VEVENT
END:VCALENDAR
